BEGIN:VCALENDAR
VERSION:2.0
PRODID:-//wp-events-plugin.com//7.2.3.1//EN
TZID:Europe/Paris
X-WR-TIMEZONE:Europe/Paris
BEGIN:VEVENT
UID:4133@i-cpc.org
DTSTART;TZID=Europe/Paris;VALUE=DATE:20260425
DTEND;TZID=Europe/Paris;VALUE=DATE:20260426
DTSTAMP:20260420T105441Z
URL:https://i-cpc.org/events/et-si-les-non-humains-pouvaient-participer-au
 x-decisions/
SUMMARY:Et si les non-humains pouvaient participer aux décisions ?
DESCRIPTION:Face aux défis écologiques\, une question émerge de plus en 
 plus dans le débat public : comment intégrer les intérêts du vivant (e
 spèces\, écosystèmes\, milieux naturels) dans nos processus de décisio
 n ? Et si\, au lieu de parler à leur place\, on expérimentait des formes
  de participation où humains et non-humains sont représentés ?\n\nC’e
 st l’objectif de cet atelier immersif proposé par Eclectic Experience\,
  en partenariat avec Terre Incantée et Carbone Bleu\, dans le cadre des "
 72h de l’Écologie" organisées par Cité des transitions. Le temps d’
 une matinée\, plongez dans une simulation de négociation unique autour d
 e l’avenir de la Méditerranée : vous incarnerez des parties prenantes
 … humaines et non humaines (espèces marines\, écosystèmes). Vous devr
 ez défendre des intérêts\, débattre et construire un accord collectif 
 pour préserver la mer Méditerranée.\n\nInfos pratiques :\nDate :  Same
 di 25 avril 2026 au Stade nautique Florence Artaud\nInscriptions : https:/
 /lnkd.in/dYsfs2ym
CATEGORIES:A la une,Rencontres
END:VEVENT
BEGIN:VTIMEZONE
TZID:Europe/Paris
X-LIC-LOCATION:Europe/Paris
BEGIN:DAYLIGHT
DTSTART:20260329T030000
TZOFFSETFROM:+0100
TZOFFSETTO:+0200
TZNAME:CEST
END:DAYLIGHT
END:VTIMEZONE
END:VCALENDAR