BEGIN:VCALENDAR
VERSION:2.0
PRODID:-//wp-events-plugin.com//7.2.3.1//EN
TZID:Europe/Paris
X-WR-TIMEZONE:Europe/Paris
BEGIN:VEVENT
UID:4111@i-cpc.org
DTSTART;TZID=Europe/Paris:20260331T180000
DTEND;TZID=Europe/Paris:20260331T193000
DTSTAMP:20260310T160043Z
URL:https://i-cpc.org/events/le-referendum-dinitiative-citoyenne-deliberat
 if-une-piste/
SUMMARY:Le référendum d’initiative citoyenne délibératif : une piste 
 ?
DESCRIPTION:A partir de la proposition de loi présentée par Marie-Pochon\
 , députée écologiste de la Drôme instaurant un Référendum d’initia
 tive citoyenne (RIC)  délibératif\, et les analyses sur l’état de no
 tre démocratie représentative qui nécessite de plus s’ouvrir aux cito
 yens\, nous vous proposons une soirée débat pour comprendre les enjeux e
 t contours de cette proposition\, les transformations qu’elle aurait pu 
 induire\, les difficultés à réformer notre système\, mais aussi les in
 itiatives et expériences\, souvent locales\, pour renforcer  la place de
 s citoyennes et des citoyens dans les décisions.\n\nNous vous invitons à
  une conversation entre Marie-Pochon\, députée de la Drôme et Loïc Blo
 ndiaux\, professeur de sciences politiques\, avec une animation par David 
 Prothais\, co président de l’ICPC.\n\nMardi 31 mars de 18 h à 19 h 30\
 n\nMerci de vous inscrire sur : https://forms.gle/tarCXTdzRAUnwobK9
CATEGORIES:Evénement,ICPC,Visioconférence
END:VEVENT
BEGIN:VTIMEZONE
TZID:Europe/Paris
X-LIC-LOCATION:Europe/Paris
BEGIN:DAYLIGHT
DTSTART:20260329T030000
TZOFFSETFROM:+0100
TZOFFSETTO:+0200
TZNAME:CEST
END:DAYLIGHT
END:VTIMEZONE
END:VCALENDAR