BEGIN:VCALENDAR
VERSION:2.0
PRODID:-//wp-events-plugin.com//7.2.3.1//EN
TZID:Europe/Paris
X-WR-TIMEZONE:Europe/Paris
BEGIN:VEVENT
UID:4094@i-cpc.org
DTSTART;TZID=Europe/Paris;VALUE=DATE:20260625
DTEND;TZID=Europe/Paris;VALUE=DATE:20260703
DTSTAMP:20260423T124114Z
URL:https://i-cpc.org/events/les-evenements-du-groupe-local-loire-atlantiq
 ue-cet-ete/
SUMMARY:Les événements du Groupe local Loire Atlantique cet été
DESCRIPTION:Jeudi 25 juin - La parole des enfants\n\nJeudi 2 juillet - Apé
 ro D-concertant \n\nThème : Pitch ton article Démocratie  Pour clôt
 urer la saison\, on vous propose un apéro autour du média Démocraties. 
 Vous pouvez pitcher un article… ou juste venir écouter et débattre. 
 À vous de choisir.
CATEGORIES:Actualités,ICPC
END:VEVENT
BEGIN:VTIMEZONE
TZID:Europe/Paris
X-LIC-LOCATION:Europe/Paris
BEGIN:DAYLIGHT
DTSTART:20260329T030000
TZOFFSETFROM:+0100
TZOFFSETTO:+0200
TZNAME:CEST
END:DAYLIGHT
END:VTIMEZONE
END:VCALENDAR