BEGIN:VCALENDAR
VERSION:2.0
PRODID:-//wp-events-plugin.com//7.2.3.1//EN
TZID:Europe/Paris
X-WR-TIMEZONE:Europe/Paris
BEGIN:VEVENT
UID:4131@i-cpc.org
DTSTART;TZID=Europe/Paris:20260428T140000
DTEND;TZID=Europe/Paris:20260428T160000
DTSTAMP:20260420T073204Z
URL:https://i-cpc.org/events/presentation-et-echanges-autour-du-guide-part
 icipation-citoyenne-dans-les-territoires-ruraux/
SUMMARY:Présentation et échanges autour du guide "Participation citoyenne
  dans les territoires ruraux"
DESCRIPTION:Décider ensemble propose un webinaire de présentation du livr
 able et échanges avec les expert·es du groupe autour de ses enseignement
 s.\n\nL'occasion d'échanger sur les leviers pour renforcer la démocratie
  participative en milieu rural\, les enjeux de la participation citoyenne 
 en territoire rural\, les leviers d'action des élu·es ruraux\, l'engagem
 ent des jeunes\, ainsi que sur la participation et la transition écologiq
 ue/énergétique.\nDate : Mardi 28 avril 2026\n\nHoraire : 14h- 16h\n\nIns
 criptions gratuites à ce lien 
CATEGORIES:Webinaire
END:VEVENT
BEGIN:VTIMEZONE
TZID:Europe/Paris
X-LIC-LOCATION:Europe/Paris
BEGIN:DAYLIGHT
DTSTART:20260329T030000
TZOFFSETFROM:+0100
TZOFFSETTO:+0200
TZNAME:CEST
END:DAYLIGHT
END:VTIMEZONE
END:VCALENDAR