BEGIN:VCALENDAR
VERSION:2.0
PRODID:-//wp-events-plugin.com//7.2.3.1//EN
TZID:Europe/Paris
X-WR-TIMEZONE:Europe/Paris
BEGIN:VEVENT
UID:4132@i-cpc.org
DTSTART;TZID=Europe/Paris:20260505T123000
DTEND;TZID=Europe/Paris:20260630T134500
DTSTAMP:20260420T100433Z
URL:https://i-cpc.org/events/serie-de-webinaires-issus-de-la-consultation-
 quartiers-de-demain/
SUMMARY:Série de webinaires issus de la consultation Quartiers de demain
DESCRIPTION:Ce printemps\, dans le prolongement de l’exposition « L’av
 enir s’écrit aujourd’hui"\, de nombreux acteurs de la politique de la
  ville partagent leurs réflexions issues de la consultation Quartiers de 
 demain ! Quartiers de demain lance une série de cinq webinaires : un mard
 i sur deux\, sur la pause méridienne\, trois concepteurs croisent leurs r
 egards sur une thématique transversale.\n\n1️⃣ 05 mai : « Quelles po
 litiques de l'eau et du sol en QPV ? »\n\n2️⃣ 19 mai : « Comment ré
 parer et prendre soin ? »\n\n3️⃣ 02 juin : « Comment réhabiliter de
  façon décarbonée ? »\n\n4️⃣ 16 juin : « Comment l'approche par l
 e paysage repense la ville ? »\n\n5️⃣ 30 juin : « Quelles stratégie
 s pour une architecture évolutive ? »\n\nLes informations pratiques :\n\
 n🕧 Un mardi sur deux\, entre 12h30 et 13h45\n🎦 En visioconférence s
 ur Zoom\, transmis par mail sur inscription\n🔗 Plus d'information et in
 scriptions ici : Inscription – Webinaires Quartiers de Demain
CATEGORIES:Webinaire
END:VEVENT
BEGIN:VTIMEZONE
TZID:Europe/Paris
X-LIC-LOCATION:Europe/Paris
BEGIN:DAYLIGHT
DTSTART:20260329T030000
TZOFFSETFROM:+0100
TZOFFSETTO:+0200
TZNAME:CEST
END:DAYLIGHT
END:VTIMEZONE
END:VCALENDAR